Workbook

Sheet Pipe calculator
A1: Dimensions | E1: Operating parameters | J1: Maximum loads
A2: Outside diameter | B2: 58 | C2: mm | E2: Pressue | F2: 6 | G2: Mpa | K2: Burst pressure [Mpa] | L2: Yield pressure [Mpa] | M2: Operating pressure [Mpa] | Q2: Buckling Force [kN] | R2: Force on the endcap [kN] | S2: Snap ring | U2: Bolts [class 4.6]
A3: Wall thickness | B3: 3 | C3: mm | E3: Temperature | F3: 20 | G3: *C | M3: 2:1 | N3: 3:1 | O3: 4:1 | P3: From operating parmeters | S3: Stress on the ring groove [Mpa] | T3: % of yield | U3: M4 | V3: M5 | W3: M6
A4: Inside diameter | B4: =B2-2*B3 -> 52 | C4: mm | E4: Safety factor K | F4: 2 | G4: n/a | H4: =100 -> 100 | J4: Aluminium 6060 PA38 | K4: =(Constants!$E2 * ('Pipe calculator'!$B$3*10^-3) * 2)/('Pipe calculator'!$B$2*10^-3) -> 21.413793 | L4: =(Constants!$D2 * ('Pipe calculator'!$B$3*10^-3) * 2)/('Pipe calculator'!$B$2*10^-3) -> 11.37931 | M4: =L4/2 -> 5.6896552 | N4: =L4/3 -> 3.7931034 | O4: =L4/4 -> 2.8448276 | P4: =L4/$F$4 -> 5.6896552 | Q4: =((3.14^2*Constants!B2*10^9 * 3.14/4 *( ($B$2/1000)^4 - ($B$4/1000)^4)) / (1*$B$5/1000)^2) /1000 -> 13348.046 | R4: =($F$2*10^6*(($B$2/2-$B$3)*10^-3)^2*3.14)/1000 -> 12.73584 | S4: =R4*10^3/$J$25/10^6 -> 62.4 | T4: =S4/Constants!E2*100 -> 30.144928 | U4: =R4*$F$4/Constants!$F$24 -> 12.73584 | V4: =R4*$F$4/Constants!$F$25 -> 9.3302857 | W4: =R4*$F$4/Constants!$F$26 -> 6.5988808
A5: Length | B5: 400 | C5: mm | J5: Aluminium 7075 PA9 | K5: =(Constants!$E3 * ('Pipe calculator'!$B$3*10^-3) * 2)/('Pipe calculator'!$B$2*10^-3) -> 55.655172 | L5: =(Constants!$D3 * ('Pipe calculator'!$B$3*10^-3) * 2)/('Pipe calculator'!$B$2*10^-3) -> 49.965517 | M5: =L5/2 -> 24.982759 | N5: =L5/3 -> 16.655172 | O5: =L5/4 -> 12.491379 | P5: =L5/$F$4 -> 24.982759 | Q5: =((3.14^2*Constants!B3*10^9 * 3.14/4 *( ($B$2/1000)^4 - ($B$4/1000)^4)) / (1*$B$5/1000)^2) /1000 -> 13890.492 | R5: =($F$2*10^6*(($B$2/2-$B$3)*10^-3)^2*3.14)/1000 -> 12.73584 | S5: =R5*10^3/$J$25/10^6 -> 62.4 | T5: =S5/Constants!E3*100 -> 11.598513 | U5: =R5*$F$4/Constants!$F$24 -> 12.73584 | V5: =R5*$F$4/Constants!$F$25 -> 9.3302857 | W5: =R5*$F$4/Constants!$F$26 -> 6.5988808
A6: Snap ring groove depth | B6: 1 | C6: mm | J6: Aluminium 6082-T6 PA4 | K6: =(Constants!$E4 * ('Pipe calculator'!$B$3*10^-3) * 2)/('Pipe calculator'!$B$2*10^-3) -> 31.034483 | L6: =(Constants!$D4 * ('Pipe calculator'!$B$3*10^-3) * 2)/('Pipe calculator'!$B$2*10^-3) -> 27.931034 | M6: =L6/2 -> 13.965517 | N6: =L6/3 -> 9.3103448 | O6: =L6/4 -> 6.9827586 | P6: =L6/$F$4 -> 13.965517 | Q6: =((3.14^2*Constants!B4*10^9 * 3.14/4 *( ($B$2/1000)^4 - ($B$4/1000)^4)) / (1*$B$5/1000)^2) /1000 -> 13561.15 | R6: =($F$2*10^6*(($B$2/2-$B$3)*10^-3)^2*3.14)/1000 -> 12.73584 | S6: =R6*10^3/$J$25/10^6 -> 62.4 | T6: =S6/Constants!E4*100 -> 20.8 | U6: =R6*$F$4/Constants!$F$24 -> 12.73584 | V6: =R6*$F$4/Constants!$F$25 -> 9.3302857 | W6: =R6*$F$4/Constants!$F$26 -> 6.5988808
I24: Force applied on snap ring
I25: Area | J25: =((($B$2/2+$B$3)+B6)*10^-3)^2*3.14 - ((($B$2/2+$B$3))*10^-3)^2*3.14 -> 0.0002041 | K25: m^2 | N25: Physical properties
I26: Force on the endcap | J26: =($F$2*10^6*(($B$2/2-$B$3)*10^-3)^2*3.14)/1000 -> 12.73584 | K26: kN | N26: Volume | O26: =($B$4/100/2)^2*3.14*B5/100 -> 0.849056 | P26: l | Q26: Theoretical impulse
I27: Stress on the ring | J27: =J26*10^3/$J$25/10^6 -> 62.4 | K27: Mpa | N27: Amount of N2O at 15*C | O27: =$O$26*Constants!T16 -> 698.09384 | P27: g | Q27: =O27/1000*Constants!$N$3 -> 1256.5689 | R27: Ns
N28: Amount of N2O at 20*C | O28: =$O$26*Constants!T17 -> 667.86745 | P28: g | Q28: =O28/1000*Constants!$N$3 -> 1202.1614 | R28: Ns
N29: Amount of N2O at 25*C | O29: =$O$26*Constants!T18 -> 631.61276 | P29: g | Q29: =O29/1000*Constants!$N$3 -> 1136.903 | R29: Ns

Sheet Inner hybrid
A1: Casing dimensions | E1: Grain dimensions | M1: Physical properties
A2: Outside diameter Do | B2: 54 | C2: mm | E2: Length Lg | F2: 150 | G2: mm | M2: Volume | N2: =((B4/20)^2*3.14*B5/10-(B6/20)^2*3.14*B9/10)/1000 -> 0.33755 | O2: l
A3: Wall thickness To | B3: 2 | C3: mm | E3: Core diameter Dc | F3: 15 | G3: mm | M3: Amount of N2O at 15*C | N3: =N2*Constants!T16 -> 277.53361 | O3: g
A4: Inside diameter | B4: =B2-2*B3 -> 50 | C4: mm | E4: Grain diameter Dg | F4: 36 | G4: mm | M4: Amount of N2O at 20*C | N4: =N2*Constants!T17 -> 265.51683 | O4: g
A5: Length Lo | B5: 300 | C5: mm | M5: Amount of N2O at 25*C | N5: =N2*Constants!T18 -> 251.10344 | O5: g
A6: Inner tube outside diameter Di | B6: 40 | C6: mm | M6: Volume of fuel grain | N6: =((F4/20)^2-(F3/20)^2)*3.141592*F2/10 -> 126.17419 | O6: cm3
A7: Inner tube wall thickness Ti | B7: 2 | C7: mm | M7: Mass of fuel grain | N7: =N6*Constants!Y2 -> 92.611855 | O7: g
A8: Inner tube inside diameter | B8: =B6-2*B7 -> 36 | C8: mm
A9: Inner tube outside length Li | B9: 200 | C9: mm

Sheet Constants
A1: Material | B1: Young modus Gpa | C1: Shear modulus Gpa | D1: Yield strength MPa | E1: Tensile strength MPa | M1: Constants | R1: N2O desnsity | X1: Material density g/cm3
A2: Aluminium 6060 PA38 | B2: 68.9 | C2: 26.2 | D2: 110 | E2: 207 | M2: Outside pressure | N2: 101325 | O2: Pa | R2: T(*C) | S2: P(kPa) | T2: d(kg/m3) | X2: Paraffin | Y2: =0.734 -> 0.734
A3: Aluminium 7075 PA9 | B3: 71.7 | C3: 26.9 | D3: 483 | E3: 538 | M3: N2O performacne | N3: 1800 | O3: Ns/kg | R3: -50 | S3: 649.9 | T3: 1102
A4: Aluminium 6082-T6 PA4 | B4: 70 | C4: 26.4 | D4: 270 | E4: 300 | R4: -45 | S4: 785.8 | T4: 1085.6
R5: -40 | S5: 941.7 | T5: 1068.8
R6: -35 | S6: 1119 | T6: 1051.4
R7: -30 | S7: 1321 | T7: 1033.4
R8: -25 | S8: 1547 | T8: 1014.8
R9: -20 | S9: 1801 | T9: 995.4
R10: -15 | S10: 2083 | T10: 975.2
R11: -10 | S11: 2397 | T11: 953.9
R12: -5 | S12: 2744 | T12: 931.4
R13: 0 | S13: 3127 | T13: 907.4
R14: 5 | S14: 3547 | T14: 881.6
R15: 10 | S15: 4007 | T15: 853.5
R16: 15 | S16: 4510 | T16: 822.2
... R20: 35 | S20: 7033 | T20: 589.4
A21: Bolt size | B21: Tensile strength for given class [kN] | F21: Shear strength for given class [kN]
B22: 4.6 | C22: 5.6 | D22: 6.8 | E22: 8.8 | F22: 4.6 | G22: 5.6 | H22: 6.8 | I22: 8.8
A23: M3
A24: M4 | F24: 2 | G24: 2 | H24: 2 | I24: 2
A25: M5 | B25: 4.09 | C25: 5.11 | D25: 6.13 | E25: 8.18 | F25: 2.73 | G25: 3.41 | H25: 3.41 | I25: 5.45
A26: M6 | B26: 5.79 | C26: 7.24 | D26: 8.68 | E26: 11.6 | F26: 3.86 | G26: 4.82 | H26: 4.82 | I26: 7.72
A27: M7
A28: M8
